############################################################################## ############################################################################## ### ### Running command: ### ### rm -rf NanoTube.buildbin-libdir && mkdir NanoTube.buildbin-libdir && E:\biocbuild\bbs-3.21-bioc\R\bin\R.exe CMD INSTALL --build --library=NanoTube.buildbin-libdir NanoTube_1.13.1.tar.gz ### ############################################################################## ############################################################################## * installing *source* package 'NanoTube' ... ** this is package 'NanoTube' version '1.13.1' ** using staged installation ** R ** data ** inst ** byte-compile and prepare package for lazy loading ** help *** installing help indices ** building package indices ** installing vignettes ** testing if installed package can be loaded from temporary location ** testing if installed package can be loaded from final location ** testing if installed package keeps a record of temporary installation path * MD5 sums packaged installation of 'NanoTube' as NanoTube_1.13.1.zip * DONE (NanoTube)