Package: NanoStringNCTools Version: 1.17.2 Command: /home/biocbuild/bbs-3.22-bioc/R/bin/R CMD check --install=check:NanoStringNCTools.install-out.txt --library=/home/biocbuild/bbs-3.22-bioc/R/site-library --timings NanoStringNCTools_1.17.2.tar.gz StartedAt: 2025-10-17 03:36:23 -0400 (Fri, 17 Oct 2025) EndedAt: 2025-10-17 03:38:29 -0400 (Fri, 17 Oct 2025) EllapsedTime: 125.1 seconds RetCode: 0 Status: OK CheckDir: NanoStringNCTools.Rcheck Warnings: 0