Package: NanoStringNCTools Version: 1.19.0 Command: /home/biocbuild/bbs-3.23-bioc/R/bin/R CMD check --install=check:NanoStringNCTools.install-out.txt --library=/home/biocbuild/bbs-3.23-bioc/R/site-library --timings NanoStringNCTools_1.19.0.tar.gz StartedAt: 2025-11-15 02:05:51 -0500 (Sat, 15 Nov 2025) EndedAt: 2025-11-15 02:07:57 -0500 (Sat, 15 Nov 2025) EllapsedTime: 126.4 seconds RetCode: 0 Status: OK CheckDir: NanoStringNCTools.Rcheck Warnings: 0