Package: NanoStringNCTools Version: 1.19.0 Command: /home/biocbuild/bbs-3.23-bioc/R/bin/R CMD build --keep-empty-dirs --no-resave-data NanoStringNCTools StartedAt: 2025-11-05 18:59:57 -0500 (Wed, 05 Nov 2025) EndedAt: 2025-11-05 19:00:29 -0500 (Wed, 05 Nov 2025) EllapsedTime: 31.0 seconds RetCode: 0 Status: OK PackageFile: NanoStringNCTools_1.19.0.tar.gz PackageFileSize: 500.2 KiB