Package: NanoStringNCTools Version: 1.17.0 Command: /Library/Frameworks/R.framework/Resources/bin/R CMD build --keep-empty-dirs --no-resave-data NanoStringNCTools StartedAt: 2025-05-09 17:12:31 -0400 (Fri, 09 May 2025) EndedAt: 2025-05-09 17:12:41 -0400 (Fri, 09 May 2025) EllapsedTime: 10.1 seconds RetCode: 1 Status: ERROR PackageFile: None PackageFileSize: NA