Package: NanoStringDiff Version: 1.39.0 Command: /home/biocbuild/bbs-3.22-bioc/R/bin/R CMD build --keep-empty-dirs --no-resave-data --md5 NanoStringDiff StartedAt: 2025-07-15 18:16:07 -0400 (Tue, 15 Jul 2025) EndedAt: 2025-07-15 18:16:26 -0400 (Tue, 15 Jul 2025) EllapsedTime: 19.0 seconds RetCode: 0 Status: OK PackageFile: NanoStringDiff_1.39.0.tar.gz PackageFileSize: 418.6 KiB