Package: NanoStringDiff Version: 1.37.0 Command: /home/biocbuild/bbs-3.21-bioc/R/bin/R CMD check --install=check:NanoStringDiff.install-out.txt --library=/home/biocbuild/bbs-3.21-bioc/R/site-library --timings NanoStringDiff_1.37.0.tar.gz StartedAt: 2025-02-04 00:49:42 -0500 (Tue, 04 Feb 2025) EndedAt: 2025-02-04 00:51:43 -0500 (Tue, 04 Feb 2025) EllapsedTime: 121.5 seconds RetCode: 0 Status: WARNINGS CheckDir: NanoStringDiff.Rcheck Warnings: 1