Package: NanoStringDiff Version: 1.37.0 Command: /home/biocbuild/bbs-3.21-bioc/R/bin/R CMD build --keep-empty-dirs --no-resave-data NanoStringDiff StartedAt: 2025-02-03 18:31:53 -0500 (Mon, 03 Feb 2025) EndedAt: 2025-02-03 18:32:14 -0500 (Mon, 03 Feb 2025) EllapsedTime: 21.0 seconds RetCode: 0 Status: OK PackageFile: NanoStringDiff_1.37.0.tar.gz PackageFileSize: 417.5 KiB