Package: NanoStringDiff Version: 1.39.0 Command: rm -rf NanoStringDiff.buildbin-libdir && mkdir NanoStringDiff.buildbin-libdir && /Users/biocbuild/BBS/utils/build-universal.sh NanoStringDiff_1.39.0.tar.gz /Library/Frameworks/R.framework/Resources/bin/R NanoStringDiff.buildbin-libdir StartedAt: 2025-07-25 22:33:53 -0400 (Fri, 25 Jul 2025) EndedAt: 2025-07-25 22:33:57 -0400 (Fri, 25 Jul 2025) EllapsedTime: 4.1 seconds RetCode: 0 Status: OK PackageFile: NanoStringDiff_1.39.0.tgz PackageFileSize: 469.6 KiB