Package: NanoStringDiff Version: 1.39.0 Maintainer: tingting zhai ,hong wang MaintainerEmail: hong.wang at uky.edu git_url: https://git.bioconductor.org/packages/NanoStringDiff git_branch: devel git_last_commit: 0f2c9a9 git_last_commit_date: 2025-04-15 10:52:38 -0400 (Tue, 15 Apr 2025)