Package: NanoMethViz Version: 3.3.1 Command: /Library/Frameworks/R.framework/Resources/bin/R CMD INSTALL NanoMethViz StartedAt: 2024-12-24 15:38:33 -0500 (Tue, 24 Dec 2024) EndedAt: 2024-12-24 15:38:56 -0500 (Tue, 24 Dec 2024) EllapsedTime: 22.5 seconds RetCode: 1 Status: ERROR