Package: NTW Version: 1.58.0 Command: E:\biocbuild\bbs-3.21-bioc\R\bin\R.exe CMD INSTALL NTW StartedAt: 2025-04-15 17:11:01 -0400 (Tue, 15 Apr 2025) EndedAt: 2025-04-15 17:11:26 -0400 (Tue, 15 Apr 2025) EllapsedTime: 24.3 seconds RetCode: 0 Status: OK