Package: NTW Version: 1.57.0 Command: E:\biocbuild\bbs-3.21-bioc\R\bin\R.exe CMD check --no-multiarch --install=check:NTW.install-out.txt --library=E:\biocbuild\bbs-3.21-bioc\R\library --no-vignettes --timings NTW_1.57.0.tar.gz StartedAt: 2025-02-04 04:08:46 -0500 (Tue, 04 Feb 2025) EndedAt: 2025-02-04 04:09:25 -0500 (Tue, 04 Feb 2025) EllapsedTime: 38.6 seconds RetCode: 0 Status: WARNINGS CheckDir: NTW.Rcheck Warnings: 1