Package: NTW Version: 1.57.0 Command: chmod a+r NTW -R && E:\biocbuild\bbs-3.21-bioc\R\bin\R.exe CMD build --keep-empty-dirs --no-resave-data NTW StartedAt: 2025-02-03 20:36:24 -0500 (Mon, 03 Feb 2025) EndedAt: 2025-02-03 20:36:47 -0500 (Mon, 03 Feb 2025) EllapsedTime: 23.0 seconds RetCode: 0 Status: OK PackageFile: NTW_1.57.0.tar.gz PackageFileSize: 752.9 KiB