Package: NTW Version: 1.57.0 Command: rm -rf NTW.buildbin-libdir && mkdir NTW.buildbin-libdir && E:\biocbuild\bbs-3.21-bioc\R\bin\R.exe CMD INSTALL --build --library=NTW.buildbin-libdir NTW_1.57.0.tar.gz StartedAt: 2025-02-06 08:37:01 -0500 (Thu, 06 Feb 2025) EndedAt: 2025-02-06 08:37:06 -0500 (Thu, 06 Feb 2025) EllapsedTime: 5.4 seconds RetCode: 0 Status: OK PackageFile: NTW_1.57.0.zip PackageFileSize: 503.3 KiB