Package: NTW Version: 1.59.0 Command: /home/biocbuild/bbs-3.22-bioc/R/bin/R CMD INSTALL NTW StartedAt: 2025-10-06 15:04:30 -0400 (Mon, 06 Oct 2025) EndedAt: 2025-10-06 15:04:49 -0400 (Mon, 06 Oct 2025) EllapsedTime: 18.7 seconds RetCode: 0 Status: OK