Package: NTW Version: 1.57.0 Command: /home/biocbuild/bbs-3.21-bioc/R/bin/R CMD INSTALL NTW StartedAt: 2025-02-05 15:05:12 -0500 (Wed, 05 Feb 2025) EndedAt: 2025-02-05 15:05:29 -0500 (Wed, 05 Feb 2025) EllapsedTime: 17.1 seconds RetCode: 0 Status: OK