Package: NTW Version: 1.57.0 Command: /home/biocbuild/bbs-3.21-bioc/R/bin/R CMD check --install=check:NTW.install-out.txt --library=/home/biocbuild/bbs-3.21-bioc/R/site-library --timings NTW_1.57.0.tar.gz StartedAt: 2025-02-06 00:54:49 -0500 (Thu, 06 Feb 2025) EndedAt: 2025-02-06 00:55:22 -0500 (Thu, 06 Feb 2025) EllapsedTime: 33.0 seconds RetCode: 0 Status: WARNINGS CheckDir: NTW.Rcheck Warnings: 1