Package: NTW Version: 1.57.0 Command: /home/biocbuild/bbs-3.21-bioc/R/bin/R CMD build --keep-empty-dirs --no-resave-data NTW StartedAt: 2025-02-10 18:36:41 -0500 (Mon, 10 Feb 2025) EndedAt: 2025-02-10 18:36:51 -0500 (Mon, 10 Feb 2025) EllapsedTime: 10.0 seconds RetCode: 0 Status: OK PackageFile: NTW_1.57.0.tar.gz PackageFileSize: 872.1 KiB