Package: NTW Version: 1.57.0 Command: /Library/Frameworks/R.framework/Resources/bin/R CMD build --keep-empty-dirs --no-resave-data NTW StartedAt: 2025-02-02 17:36:05 -0500 (Sun, 02 Feb 2025) EndedAt: 2025-02-02 17:36:29 -0500 (Sun, 02 Feb 2025) EllapsedTime: 24.3 seconds RetCode: 0 Status: OK PackageFile: NTW_1.57.0.tar.gz PackageFileSize: 871.4 KiB