Package: NTW Version: 1.57.0 Command: /home/biocbuild/R/R/bin/R CMD INSTALL NTW StartedAt: 2025-01-29 19:32:47 -0000 (Wed, 29 Jan 2025) EndedAt: 2025-01-29 19:32:56 -0000 (Wed, 29 Jan 2025) EllapsedTime: 8.3 seconds RetCode: 0 Status: OK