Package: NTW Version: 1.57.0 Command: /home/biocbuild/R/R/bin/R CMD build --keep-empty-dirs --no-resave-data NTW StartedAt: 2025-01-29 00:54:46 -0000 (Wed, 29 Jan 2025) EndedAt: 2025-01-29 00:55:03 -0000 (Wed, 29 Jan 2025) EllapsedTime: 17.0 seconds RetCode: 0 Status: OK PackageFile: NTW_1.57.0.tar.gz PackageFileSize: 856.2 KiB