Package: NTW Version: 1.57.0 Command: /Library/Frameworks/R.framework/Resources/bin/R CMD check --install=check:NTW.install-out.txt --library=/Library/Frameworks/R.framework/Resources/library --no-vignettes --timings NTW_1.57.0.tar.gz StartedAt: 2025-02-10 20:29:17 -0500 (Mon, 10 Feb 2025) EndedAt: 2025-02-10 20:29:30 -0500 (Mon, 10 Feb 2025) EllapsedTime: 13.2 seconds RetCode: 0 Status: WARNINGS CheckDir: NTW.Rcheck Warnings: 1