Package: NTW Version: 1.57.0 Maintainer: Yuanhua Liu MaintainerEmail: liuyuanhua at picb.ac.cn git_url: https://git.bioconductor.org/packages/NTW git_branch: devel git_last_commit: 1d0ba97 git_last_commit_date: 2024-10-29 09:34:20 -0500 (Tue, 29 Oct 2024)