Package: NPARC Version: 1.19.0 Command: /Library/Frameworks/R.framework/Resources/bin/R CMD build --keep-empty-dirs --no-resave-data NPARC StartedAt: 2025-01-10 17:38:53 -0500 (Fri, 10 Jan 2025) EndedAt: 2025-01-10 17:43:03 -0500 (Fri, 10 Jan 2025) EllapsedTime: 250.2 seconds RetCode: 0 Status: OK PackageFile: NPARC_1.19.0.tar.gz PackageFileSize: 2.298 MiB