Package: NOISeq Version: 2.53.0 Command: /home/biocbuild/bbs-3.22-bioc/R/bin/R CMD INSTALL NOISeq StartedAt: 2025-10-06 15:12:48 -0400 (Mon, 06 Oct 2025) EndedAt: 2025-10-06 15:12:59 -0400 (Mon, 06 Oct 2025) EllapsedTime: 10.7 seconds RetCode: 0 Status: OK