Package: NOISeq Version: 2.53.0 Maintainer: Sonia Tarazona MaintainerEmail: sotacam at eio.upv.es git_url: https://git.bioconductor.org/packages/NOISeq git_branch: devel git_last_commit: 15be0cd git_last_commit_date: 2025-04-15 10:16:14 -0400 (Tue, 15 Apr 2025)