Package: NCIgraph Version: 1.57.0 Command: /home/biocbuild/R/R/bin/R CMD build --keep-empty-dirs --no-resave-data NCIgraph StartedAt: 2025-09-30 01:52:14 -0000 (Tue, 30 Sep 2025) EndedAt: 2025-09-30 01:52:33 -0000 (Tue, 30 Sep 2025) EllapsedTime: 19.0 seconds RetCode: 0 Status: OK PackageFile: NCIgraph_1.57.0.tar.gz PackageFileSize: 197.9 KiB