Package: NCIgraph Version: 1.57.0 Maintainer: Laurent Jacob MaintainerEmail: laurent.jacob at gmail.com git_url: https://git.bioconductor.org/packages/NCIgraph git_branch: devel git_last_commit: 8feb10b git_last_commit_date: 2025-04-15 10:07:48 -0400 (Tue, 15 Apr 2025)