Package: NBAMSeq Version: 1.23.0 Command: /home/biocbuild/bbs-3.21-bioc/R/bin/R CMD build --keep-empty-dirs --no-resave-data NBAMSeq StartedAt: 2025-02-19 18:21:05 -0500 (Wed, 19 Feb 2025) EndedAt: 2025-02-19 18:21:57 -0500 (Wed, 19 Feb 2025) EllapsedTime: 52.0 seconds RetCode: 0 Status: OK PackageFile: NBAMSeq_1.23.0.tar.gz PackageFileSize: 315.1 KiB