Package: NBAMSeq Version: 1.23.0 Command: rm -rf NBAMSeq.buildbin-libdir && mkdir NBAMSeq.buildbin-libdir && /Users/biocbuild/BBS/utils/build-universal.sh NBAMSeq_1.23.0.tar.gz /Library/Frameworks/R.framework/Resources/bin/R NBAMSeq.buildbin-libdir StartedAt: 2025-02-20 00:44:08 -0500 (Thu, 20 Feb 2025) EndedAt: 2025-02-20 00:44:50 -0500 (Thu, 20 Feb 2025) EllapsedTime: 41.6 seconds RetCode: 0 Status: OK PackageFile: NBAMSeq_1.23.0.tgz PackageFileSize: 400.7 KiB