Package: NADfinder Version: 1.33.0 Command: chmod a+r NADfinder -R && F:\biocbuild\bbs-3.22-bioc\R\bin\R.exe CMD build --keep-empty-dirs --no-resave-data NADfinder StartedAt: 2025-08-14 21:52:06 -0400 (Thu, 14 Aug 2025) EndedAt: 2025-08-14 21:55:43 -0400 (Thu, 14 Aug 2025) EllapsedTime: 217.5 seconds RetCode: 0 Status: OK PackageFile: NADfinder_1.33.0.tar.gz PackageFileSize: 5.677 MiB