Package: MutationalPatterns Version: 3.17.0 Command: chmod a+r MutationalPatterns -R && E:\biocbuild\bbs-3.21-bioc\R\bin\R.exe CMD build --keep-empty-dirs --no-resave-data MutationalPatterns StartedAt: 2025-02-14 20:16:51 -0500 (Fri, 14 Feb 2025) EndedAt: 2025-02-14 20:31:21 -0500 (Fri, 14 Feb 2025) EllapsedTime: 870.5 seconds RetCode: 0 Status: OK PackageFile: MutationalPatterns_3.17.0.tar.gz PackageFileSize: 3.357 MiB