Package: MutationalPatterns Version: 3.19.0 Command: /home/biocbuild/bbs-3.22-bioc/R/bin/R CMD INSTALL MutationalPatterns StartedAt: 2025-07-23 15:50:15 -0400 (Wed, 23 Jul 2025) EndedAt: 2025-07-23 15:50:39 -0400 (Wed, 23 Jul 2025) EllapsedTime: 24.1 seconds RetCode: 0 Status: OK