Package: MutationalPatterns Version: 3.19.1 Command: /home/biocbuild/bbs-3.22-bioc/R/bin/R CMD check --install=check:MutationalPatterns.install-out.txt --library=/home/biocbuild/bbs-3.22-bioc/R/site-library --timings MutationalPatterns_3.19.1.tar.gz StartedAt: 2025-10-02 02:32:19 -0400 (Thu, 02 Oct 2025) EndedAt: 2025-10-02 02:51:54 -0400 (Thu, 02 Oct 2025) EllapsedTime: 1175.3 seconds RetCode: 0 Status: OK CheckDir: MutationalPatterns.Rcheck Warnings: 0