Package: MutationalPatterns Version: 3.19.0 Command: /home/biocbuild/bbs-3.22-bioc/R/bin/R CMD build --keep-empty-dirs --no-resave-data --md5 MutationalPatterns StartedAt: 2025-07-23 18:35:36 -0400 (Wed, 23 Jul 2025) EndedAt: 2025-07-23 18:36:11 -0400 (Wed, 23 Jul 2025) EllapsedTime: 35.0 seconds RetCode: 1 Status: ERROR PackageFile: None PackageFileSize: NA