Package: MutationalPatterns Version: 3.19.0 Command: /Library/Frameworks/R.framework/Resources/bin/R CMD INSTALL MutationalPatterns StartedAt: 2025-05-22 15:36:16 -0400 (Thu, 22 May 2025) EndedAt: 2025-05-22 15:36:42 -0400 (Thu, 22 May 2025) EllapsedTime: 26.3 seconds RetCode: 0 Status: OK