Package: MutationalPatterns Version: 3.17.0 Command: /home/biocbuild/R/R/bin/R CMD INSTALL MutationalPatterns StartedAt: 2025-01-29 20:00:46 -0000 (Wed, 29 Jan 2025) EndedAt: 2025-01-29 20:01:11 -0000 (Wed, 29 Jan 2025) EllapsedTime: 24.8 seconds RetCode: 0 Status: OK