Package: MutationalPatterns Version: 3.17.0 Command: /home/biocbuild/R/R/bin/R CMD build --keep-empty-dirs --no-resave-data MutationalPatterns StartedAt: 2025-01-29 00:46:12 -0000 (Wed, 29 Jan 2025) EndedAt: 2025-01-29 01:00:54 -0000 (Wed, 29 Jan 2025) EllapsedTime: 882.0 seconds RetCode: 0 Status: OK PackageFile: MutationalPatterns_3.17.0.tar.gz PackageFileSize: 3.544 MiB