Package: MutationalPatterns Version: 3.19.0 Command: /Library/Frameworks/R.framework/Resources/bin/R CMD INSTALL MutationalPatterns StartedAt: 2025-05-27 15:21:48 -0400 (Tue, 27 May 2025) EndedAt: 2025-05-27 15:21:55 -0400 (Tue, 27 May 2025) EllapsedTime: 7.2 seconds RetCode: 0 Status: OK