Package: MultimodalExperiment Version: 1.7.0 Command: /home/biocbuild/R/R/bin/R CMD INSTALL MultimodalExperiment StartedAt: 2025-01-29 19:42:03 -0000 (Wed, 29 Jan 2025) EndedAt: 2025-01-29 19:42:42 -0000 (Wed, 29 Jan 2025) EllapsedTime: 39.7 seconds RetCode: 0 Status: OK