Package: MultimodalExperiment Version: 1.7.0 Command: /Library/Frameworks/R.framework/Resources/bin/R CMD INSTALL MultimodalExperiment StartedAt: 2025-02-05 15:05:36 -0500 (Wed, 05 Feb 2025) EndedAt: 2025-02-05 15:05:52 -0500 (Wed, 05 Feb 2025) EllapsedTime: 16.1 seconds RetCode: 0 Status: OK