Package: MultimodalExperiment Version: 1.9.0 Command: /Library/Frameworks/R.framework/Resources/bin/R CMD check --install=check:MultimodalExperiment.install-out.txt --library=/Library/Frameworks/R.framework/Resources/library --no-vignettes --timings MultimodalExperiment_1.9.0.tar.gz StartedAt: 2025-05-08 20:51:35 -0400 (Thu, 08 May 2025) EndedAt: 2025-05-08 20:52:53 -0400 (Thu, 08 May 2025) EllapsedTime: 78.0 seconds RetCode: 0 Status: OK CheckDir: MultimodalExperiment.Rcheck Warnings: 0