Package: MultimodalExperiment Version: 1.9.0 Command: /Library/Frameworks/R.framework/Resources/bin/R CMD build --keep-empty-dirs --no-resave-data MultimodalExperiment StartedAt: 2025-05-19 16:59:03 -0400 (Mon, 19 May 2025) EndedAt: 2025-05-19 16:59:20 -0400 (Mon, 19 May 2025) EllapsedTime: 17.2 seconds RetCode: 0 Status: OK PackageFile: MultimodalExperiment_1.9.0.tar.gz PackageFileSize: 2.532 MiB