Package: MultimodalExperiment Version: 1.7.0 Command: rm -rf MultimodalExperiment.buildbin-libdir && mkdir MultimodalExperiment.buildbin-libdir && /Users/biocbuild/BBS/utils/build-universal.sh MultimodalExperiment_1.7.0.tar.gz /Library/Frameworks/R.framework/Resources/bin/R MultimodalExperiment.buildbin-libdir StartedAt: 2025-02-05 22:27:54 -0500 (Wed, 05 Feb 2025) EndedAt: 2025-02-05 22:28:06 -0500 (Wed, 05 Feb 2025) EllapsedTime: 12.2 seconds RetCode: 0 Status: OK PackageFile: MultimodalExperiment_1.7.0.tgz PackageFileSize: 4.46 MiB