Package: MultimodalExperiment Version: 1.7.0 Maintainer: Lucas Schiffer MaintainerEmail: schiffer.lucas at gmail.com git_url: https://git.bioconductor.org/packages/MultimodalExperiment git_branch: devel git_last_commit: d92c351 git_last_commit_date: 2024-10-29 11:20:59 -0500 (Tue, 29 Oct 2024)