Package: MultiRNAflow Version: 1.7.0 Command: rm -rf MultiRNAflow.buildbin-libdir && mkdir MultiRNAflow.buildbin-libdir && F:\biocbuild\bbs-3.22-bioc\R\bin\R.exe CMD INSTALL --build --library=MultiRNAflow.buildbin-libdir MultiRNAflow_1.7.0.tar.gz StartedAt: 2025-08-15 10:48:12 -0400 (Fri, 15 Aug 2025) EndedAt: 2025-08-15 10:49:31 -0400 (Fri, 15 Aug 2025) EllapsedTime: 78.4 seconds RetCode: 0 Status: OK PackageFile: MultiRNAflow_1.7.0.zip PackageFileSize: 3.038 MiB