Package: MultiRNAflow Version: 1.5.0 Command: /home/biocbuild/bbs-3.21-bioc/R/bin/R CMD check --install=check:MultiRNAflow.install-out.txt --library=/home/biocbuild/bbs-3.21-bioc/R/site-library --timings MultiRNAflow_1.5.0.tar.gz StartedAt: 2025-01-31 00:27:29 -0500 (Fri, 31 Jan 2025) EndedAt: 2025-01-31 00:41:06 -0500 (Fri, 31 Jan 2025) EllapsedTime: 816.4 seconds RetCode: 0 Status: OK CheckDir: MultiRNAflow.Rcheck Warnings: 0