Package: MultiRNAflow Version: 1.7.0 Command: /Library/Frameworks/R.framework/Resources/bin/R CMD INSTALL MultiRNAflow StartedAt: 2025-05-05 15:19:58 -0400 (Mon, 05 May 2025) EndedAt: 2025-05-05 15:21:16 -0400 (Mon, 05 May 2025) EllapsedTime: 77.7 seconds RetCode: 0 Status: OK