Package: MultiRNAflow Version: 1.5.0 Command: /Library/Frameworks/R.framework/Resources/bin/R CMD check --install=check:MultiRNAflow.install-out.txt --library=/Library/Frameworks/R.framework/Resources/library --no-vignettes --timings MultiRNAflow_1.5.0.tar.gz StartedAt: 2025-01-30 21:47:28 -0500 (Thu, 30 Jan 2025) EndedAt: 2025-01-30 22:00:12 -0500 (Thu, 30 Jan 2025) EllapsedTime: 763.7 seconds RetCode: 0 Status: OK CheckDir: MultiRNAflow.Rcheck Warnings: 0